BEGIN:VCALENDAR
VERSION:2.0
PRODID:spatie/icalendar-generator
BEGIN:VTIMEZONE
TZID:Europe/Helsinki
BEGIN:DAYLIGHT
DTSTART:19700329T030000
TZOFFSETFROM:+0200
TZOFFSETTO:+0300
TZNAME:EEST
RRULE:FREQ=YEARLY;BYMONTH=3;BYDAY=-1SU
END:DAYLIGHT
BEGIN:STANDARD
DTSTART:19701025T040000
TZOFFSETFROM:+0300
TZOFFSETTO:+0200
TZNAME:EET
RRULE:FREQ=YEARLY;BYMONTH=10;BYDAY=-1SU
END:STANDARD
END:VTIMEZONE
BEGIN:VEVENT
UID:69e81f5639d62
DTSTAMP:20260422T010734Z
DTSTART;TZID=Europe/Helsinki:20250926T083000
DTEND;TZID=Europe/Helsinki:20250926T110000
SUMMARY:KESTO-hanke: Työelämäpedagogiikka-työpaja SEDUn työntekijöill
 e
URL:https://kesto.seamk.fi/event/kesto-hanke-tyoelamapedagogiikka-tyopaja-s
 edun-tyontekijoille/
END:VEVENT
END:VCALENDAR