BEGIN:VCALENDAR
VERSION:2.0
PRODID:spatie/icalendar-generator
BEGIN:VTIMEZONE
TZID:Europe/Helsinki
BEGIN:DAYLIGHT
DTSTART:19700329T030000
TZOFFSETFROM:+0200
TZOFFSETTO:+0300
TZNAME:EEST
RRULE:FREQ=YEARLY;BYMONTH=3;BYDAY=-1SU
END:DAYLIGHT
BEGIN:STANDARD
DTSTART:19701025T040000
TZOFFSETFROM:+0300
TZOFFSETTO:+0200
TZNAME:EET
RRULE:FREQ=YEARLY;BYMONTH=10;BYDAY=-1SU
END:STANDARD
END:VTIMEZONE
BEGIN:VEVENT
UID:69e81c927b151
DTSTAMP:20260422T005546Z
DTSTART;TZID=Europe/Helsinki:20260325T173000
DTEND;TZID=Europe/Helsinki:20260325T193000
SUMMARY:Yrityksille: Koulutus \"Työnantajakuva rakentuu arjessa\" + keskus
 telua työelämäpedagogiikasta
URL:https://kesto.seamk.fi/event/yrityksille-koulutus-tyonantajakuva-rakent
 uu-arjessa/
END:VEVENT
END:VCALENDAR